BEGIN:VCALENDAR
VERSION:2.0
PRODID:-//wp-events-plugin.com//7.2.3.1//EN
BEGIN:VEVENT
UID:532@ldawe.ca
DTSTART:20260511T000000Z
DTEND:20260511T000000Z
DTSTAMP:20260413T204815Z
URL:https://www.ldawe.ca/events/partnering-with-schools-for-student-succes
 s-effective-parent-advocacy/
SUMMARY:Partnering with Schools for Student Success: Effective Parent Advoc
 acy
DESCRIPTION:\n\n\n\n\nAbout the Course\nThis course supports parents and ca
 regivers in building effective\, collaborative partnerships with schools t
 o support their child’s success.\n\nDeveloped in partnership with the Ch
 ild Development Institute (CDI)\, the course focuses on advocacy\, underst
 anding school systems\, and practical strategies for navigating meetings\,
  IEPs\, and decision-making.\n\nThis is a fully online\, asynchronous cour
 se. There are no scheduled live sessions.\nCourse Schedule\nCourse begins 
 May 11\, 2026\nWeekly modules released each Monday\, with the final unit (
 Week 7) released on June 22\, 2026\n\n\n\n\nBoth options include the same 
 course content. Choose the option that best fits your learning preferences
  and support needs.\n\n\nTo register: Partnering with Schools for Student 
 Success\n\n\n\n\n\n\n\n\n\n\n\n\n\n
END:VEVENT
END:VCALENDAR