BEGIN:VCALENDAR
VERSION:2.0
PRODID:-//wp-events-plugin.com//7.2.3.1//EN
BEGIN:VEVENT
UID:28@ldawe.ca
DTSTART:20180307T180000Z
DTEND:20180307T200000Z
DTSTAMP:20171109T194442Z
URL:https://www.ldawe.ca/events/abc-123-tutoring-essex-2018-03-07/
SUMMARY:ABC 123 Tutoring (Essex)
DESCRIPTION:Tutoring will focus on basic reading\, writing\, and math skill
 s. A to Z Reading and JUMP Math tutoring methods are used in a small group
  setting. Many of the concepts taught will be reinforced with games and ha
 nds-on activities\, with many incentives being provided to promote partici
 pation.\n\nNo Classes during March Break: March 12-16
LOCATION:Holy Name Elementary\, 200 Fairview Ave W\, Essex\, Ontario\, N8M 
 1Y1\, Canada
X-APPLE-STRUCTURED-LOCATION;VALUE=URI;X-ADDRESS=200 Fairview Ave W\, Essex\
 , Ontario\, N8M 1Y1\, Canada;X-APPLE-RADIUS=100;X-TITLE=Holy Name Elementa
 ry:geo:0,0
END:VEVENT
END:VCALENDAR