BEGIN:VCALENDAR
VERSION:2.0
PRODID:-//wp-events-plugin.com//7.2.3.1//EN
BEGIN:VEVENT
UID:531@ldawe.ca
DTSTART;TZID=America/Toronto:20260520T183000
DTEND;TZID=America/Toronto:20260520T200000
DTSTAMP:20260411T201529Z
URL:https://www.ldawe.ca/events/7th-annual-chapter-parent-conference/
SUMMARY:7th Annual Chapter Parent Conference
DESCRIPTION:Registration is Open!!\n\n\n\nJoin us for the 7th Annual LDA Pa
 rent Conference!\n\n\n\nMark your calendars: May 20th\, 2026\, from 6:30 P
 M to 8:00 PM\nVirtually via Zoom\n\n\n\n\n  Ask the Experts: Advocacy and 
 Accommodations\n  🗣️ Presenters: Karen and Ann Wolff\n\n\n\n\n\n  Exe
 cutive Function Essentials\n  🗣️ Presenter: Dr. Laurie Faith\n\n\n\n\
 n\n  Raising Confident Kids with ADHD and Learning Disabilities\n  🗣️
  Presenter: Nicky Lightstone\n\n\n\n\n\n  Classrooms Designed with Access\
 , Agency\, and Wellbeing in Mind\n  🗣️ Presenter: Kara Dymond\n\n\n\n
 \n\n  To register: \n  \n    Click here to register\n  \n\n\n\n\n\n  \n
END:VEVENT
BEGIN:VTIMEZONE
TZID:America/Toronto
X-LIC-LOCATION:America/Toronto
BEGIN:DAYLIGHT
DTSTART:20260308T030000
TZOFFSETFROM:-0500
TZOFFSETTO:-0400
TZNAME:EDT
END:DAYLIGHT
END:VTIMEZONE
END:VCALENDAR