BEGIN:VCALENDAR
VERSION:2.0
PRODID:-//wp-events-plugin.com//7.2.3.1//EN
BEGIN:VEVENT
UID:534@ldawe.ca
DTSTART:20260918T170000Z
DTEND:20260918T220000Z
DTSTAMP:20260423T174730Z
URL:https://www.ldawe.ca/events/2nd-annual-ladies-9-hole-classic-tournamen
 t/
SUMMARY:2nd Annual Ladies’ 9-Hole Classic Tournament
DESCRIPTION:Join us at Oxley Beach Golf Course for our Second Annual Ladies
 ’ Golf Tournament — an evening of fun\, friendship\, and fundraising.\
 n\n$85 includes tournament\, dinner\, drink ticket and music for registere
 d players.\n\nEvery swing supports essential literacy supports for childre
 n with disabilities. Sign up today to drive change\, one hole at a time!\n
 \nEvent Highlights\n\n5:00 PM - Registration\n\n5:30 PM - Shotgun Start\n\
 n7:30 pm  - Dinner\n\nSavour a delightful array of food and beverages ava
 ilable following the event. All welcome - $35/person.\n\n8:00 pm  - Live 
 Music Entertainment\n\nJoin us for an evening of musical entertainment fol
 lowing dinner. All welcome - $10 at the door.\n\nTo learn more about spons
 orships: Sponsorships\n\nTo register: https://www.zeffy.com/ticketing/ladi
 es-9-hole-classic-tournament\n\n\n\n&nbsp\;\n\n&nbsp\;\n\n&nbsp\;
ATTACH;FMTTYPE=image/jpeg:https://www.ldawe.ca/wp-content/uploads/2025/06/
 istockphoto-2170940926-612x612-1.jpg
CATEGORIES:Fundrasier
END:VEVENT
END:VCALENDAR